BEGIN:VCALENDAR
VERSION:2.0
PRODID:-//ArquivoCoroCantabile[ES] - ECPv5.3.1//NONSGML v1.0//EN
CALSCALE:GREGORIAN
METHOD:PUBLISH
X-WR-CALNAME:ArquivoCoroCantabile[ES]
X-ORIGINAL-URL:https://arquivo.corocantabile.gal
X-WR-CALDESC:Events for ArquivoCoroCantabile[ES]
BEGIN:VTIMEZONE
TZID:Europe/Madrid
BEGIN:DAYLIGHT
TZOFFSETFROM:+0100
TZOFFSETTO:+0200
TZNAME:CEST
DTSTART:20140330T010000
END:DAYLIGHT
BEGIN:STANDARD
TZOFFSETFROM:+0200
TZOFFSETTO:+0100
TZNAME:CET
DTSTART:20141026T010000
END:STANDARD
END:VTIMEZONE
BEGIN:VEVENT
DTSTART;TZID=Europe/Madrid:20140411T203000
DTEND;TZID=Europe/Madrid:20140411T213000
DTSTAMP:20260420T101325
CREATED:20140319T125552Z
LAST-MODIFIED:20140410T184759Z
UID:505-1397248200-1397251800@arquivo.corocantabile.gal
SUMMARY:Concierto semana santa
DESCRIPTION:Concierto de música religiosa con motivo de la semana santa. Atención porque la hora del concierto cambia y pasa a las 20:30. \nFoto por asanlog en Panoramio
URL:https://arquivo.corocantabile.gal/evento/concierto-semana-santa/
LOCATION:Iglesia San Francisco\, Rúa San Francisco\, Betanzos
CATEGORIES:Concierto
END:VEVENT
END:VCALENDAR