BEGIN:VCALENDAR
VERSION:2.0
PRODID:-//ArquivoCoroCantabile[ES] - ECPv5.3.1//NONSGML v1.0//EN
CALSCALE:GREGORIAN
METHOD:PUBLISH
X-WR-CALNAME:ArquivoCoroCantabile[ES]
X-ORIGINAL-URL:https://arquivo.corocantabile.gal
X-WR-CALDESC:Events for ArquivoCoroCantabile[ES]
BEGIN:VTIMEZONE
TZID:Europe/Madrid
BEGIN:DAYLIGHT
TZOFFSETFROM:+0100
TZOFFSETTO:+0200
TZNAME:CEST
DTSTART:20210328T010000
END:DAYLIGHT
BEGIN:STANDARD
TZOFFSETFROM:+0200
TZOFFSETTO:+0100
TZNAME:CET
DTSTART:20211031T010000
END:STANDARD
END:VTIMEZONE
BEGIN:VEVENT
DTSTART;TZID=Europe/Madrid:20211120T120000
DTEND;TZID=Europe/Madrid:20211120T130000
DTSTAMP:20260422T225319
CREATED:20211113T225811Z
LAST-MODIFIED:20211113T230847Z
UID:5841-1637409600-1637413200@arquivo.corocantabile.gal
SUMMARY:Concerto no Aquarium Finisterrae
DESCRIPTION:
URL:https://arquivo.corocantabile.gal/evento/concerto-no-aquarium-finisterrae/
LOCATION:Aquarium Finisterrae\, Paseo Marítimo Alcalde Francisco Vázquez\, 34\, A CORUÑA\, A CORUÑA\, 15002\, Spain
END:VEVENT
END:VCALENDAR